BEGIN:VCALENDAR
PRODID:-//AT Content Types//AT Event//EN
VERSION:2.0
METHOD:PUBLISH
BEGIN:VEVENT
DTSTAMP:20260422T234122Z
CREATED:20220513T144740Z
UID:ATEvent-8c212dd620eb40b1b21b8706ca0e9115
LAST-MODIFIED:20220613T080638Z
SUMMARY:Community Drop In
DTSTART:20220630T140000Z
DTEND:20220630T180000Z
DESCRIPTION:Come and meet the project team and find out more informati
 on at South Queensferry Community Centre\, School Lane\, EH30 9NU
CLASS:PUBLIC
END:VEVENT
END:VCALENDAR
