BEGIN:VCALENDAR
PRODID:-//AT Content Types//AT Event//EN
VERSION:2.0
METHOD:PUBLISH
BEGIN:VEVENT
DTSTAMP:20260423T005435Z
CREATED:20230814T105223Z
UID:ATEvent-9a45fbb7ab9842bbacc6b953ba14a936
LAST-MODIFIED:20230814T105223Z
SUMMARY:Drop-in information event at Kirkliston Parish Church
DTSTART:20230829T150000Z
DTEND:20230829T180000Z
DESCRIPTION:Location: Kirkliston Parish Church\, The Square\, Kirklist
 on\, EH29 9AS\n\nIf you have any accessibility requirements or transla
 tion needs\, please e-mail: invest@edinburgh.gov.uk
CLASS:PUBLIC
END:VEVENT
END:VCALENDAR
