BEGIN:VCALENDAR
PRODID:-//AT Content Types//AT Event//EN
VERSION:2.0
METHOD:PUBLISH
BEGIN:VEVENT
DTSTAMP:20260424T150433Z
CREATED:20240605T093114Z
UID:ATEvent-37353f0901ae421cb915009dc572ad5b
LAST-MODIFIED:20240606T142957Z
SUMMARY:Drop-in Session
DTSTART:20240613T140000Z
DTEND:20240613T180000Z
DESCRIPTION:In the Tweed Room at the Marriott Delta Hotel\, 111 Glasgo
 w Road.
CLASS:PUBLIC
END:VEVENT
END:VCALENDAR
